Workbook

Sheet Overview
B2: BAS BASIC EXCEL WORKBOOK
B4: Overview
B5: What is Microsoft Excel?
B6: Microsoft Excel is a spreadsheet software, developed by Microsoft, that features...
C7: • Calculation or computation capabilities
C8: • Graphing tools
C9: • PivotTables
C10: • A macro programming language called Visual Basic for Applications (VBA)
B12: Agenda
C13: • Keyboard Shortcuts
C14: • Cell Reference
C15: • SUM & ROUND Functions
C16: • IF Function
C17: • COUNTIF(S) & SUMIF(S) Functions
C18: • INDEX & MATCH Functions
C19: • VLOOKUP & XLOOKUP Functions
C20: • Practice Problems

Sheet Keyboard Shortcuts
B2: Keyboard Shortcuts
B3: Shortcut | E3: Windows/PC | G3: Mac
B4: Jump to end of table | E4: Control + (Up/Down/Left/Right) | G4: Command + (Up/Down/Left/Right)
B6: Jump to end of table + highlight entire region | E6: Control + Shift + (Up/Down/Left/Right) | G6: Command + Shift + (Up/Down/Left/Right)
B8: Display formula + highlight inputs | E8: F2 | G8: Control + U
B9: Cycle through cell reference | E9: F4 | G9: Command + T
B12: Cost of Apple | C12: # of Apples | D12: Total Cost
B13: 2 | C13: 5 | D13: =B13*$C13 -> 10
B14: 3 | C14: 10 | D14: =B14*C14 -> 30
B15: 4 | C15: 15 | D15: =B15*C15 -> 60
B16: 5 | C16: 20 | D16: =B16*C16 -> 100
B17: 6 | C17: 25 | D17: =B17*C17 -> 150
B18: 7 | C18: 30 | D18: =B18*C18 -> 210

Sheet Cell Reference
B2: Relative Cell Reference
B3: Data | C3: Example | D3: Formula | E3: Output | G3: Excel default
B4: 1 | D4: =B4*5 | E4: 5 | G4: When copied across multiple cells, they change based on the relative positions of rows and columns. For example, if you copy the formula =B4*5 from row 4 to row 5, the formula will become =B5*5.
B5: 2 | D5: =B5*5 | E5: 10
B6: 3 | D6: =B6*5 | E6: 15
B8: Absolute Cell Reference
B9: Number | C9: Example | D9: Formula | E9: Output | F9: Multiply by: | G9: Unlike relative references, absolute references do not change when copied or filled
B10: 1 | D10: =B10*$F$10 | E10: 10 | F10: 10
B11: 2 | D11: =B11*$F$10 | E11: 20 | G11: Used to keep a row and column constant
B12: 3 | D12: =B12*$F$10 | E12: 30 | G12: Designated in a formula by the addition of a dollar sign ($)
B17: Mixed Cell Reference
B18: Number | C18: Multiply by | G18: Can precede the column reference or row reference
C19: 5 | D19: 10 | E19: 100
B20: 3 | G20: For example: | H20: A$1: the row does not change when copied
B21: 6
H22: $A1: the column does not change when copied
B23: Formulas: | C23: =$B$20*C$19 | D23: =$B$20*D$19 | E23: =$B$20*E$19
C24: =$B$21*C$19 | D24: =$B$21*D$19 | E24: =$B$21*E$19

Sheet SUM & ROUND
C2: SUM | H2: ROUND
B4: Function: | C4: Returns the sum of selected numbers | H4: Rounds a selected value
B5: Commonly used: | C5: To add selected numbers | H5: To round a selected value
B6: Syntax: | C6: =SUM(number1, [number2], [number3],…) | H6: =ROUND(number, num_digits)
B7: Input: | C7: number1 = the first number (or range) to add [number2] = the second number (or range) to add [numberN] = the Nth number (or range) to add | H7: number = value to round num_digits = number of digits to round to
B8: Output: | C8: Sum of selected values | H8: Rounded value
B10: EXERCISES
B12: Data | C12: Example | D12: Formula | G12: Output
B13: 6.2847 | D13: =SUM(B13,B14,B15,B16,B17,B18) | G13: =SUM(B13,B14,B15,B16,B17,B18) -> 174.8272
B14: 13.0796 | D14: =SUM(B13:B18) | G14: =SUM(B13:B18) -> 174.8272
B15: 26.2746 | D15: =ROUND(G14,2) | G15: =ROUND(G14,2) -> 174.83
B16: 32.7094 | D16: =ROUND(SUM(B13:B18),2) | G16: =ROUND(G15,2) -> 174.83
B17: 41.4968
B18: 54.9821
B20: Practice: Find the sum of the first 3 numbers. | H20: =SUM(B13:B15) -> 45.6389
B22: Practice: Round this sum to one digit after the decimal (try doing it both ways). | H22: =ROUND(SUM(B13:B15),1) -> 45.6
B24: Extra Practice: Round the sum of the last 3 values to three decimals. | H24: =ROUND(SUM(B16:B18),2) -> 129.19

Sheet IF
B2: IF
B4: Function: | C4: Performs a logical test and returns one value for a TRUE result and one value for a FALSE result
B5: Commonly used: | C5: To test for a specific condition
B6: Syntax: | C6: =IF(logical_test, value_if_true, [value_if_false])
B7: Input: | C7: logical_test = checks a condition using a comparison operator value_if_true = the value to return when logical_test evaluates to TRUE [value_if_false] = the value to return when logical_test evaluates to FALSE
B8: Output: | C8: The result of the code block that runs based on whether the condition is true or false.
B10: EXERCISES
B12: Hurricane damage loss greater than $1,000,000 are considered severe, otherwise they are normal. The table below contains the hurricane damage loss for a sample of 5 incidents.
B14: Hurricane Damage Loss | C14: Example | D14: Formula | G14: Output | H14: Condition
B15: 1074562 | D15: =IF(B15>1000000,"Severe","Normal") | G15: =IF(B15>1000000,"Severe","Normal") -> Severe | H15: 1000000
B16: 16384563 | D16: =IF(B16>1000000,"Severe","Normal") | G16: =IF(B16>1000000,"Severe","Normal") -> Severe
B17: 394573 | D17: =IF(B17>1000000,"Severe","Normal") | G17: =IF(B17>1000000,"Severe","Normal") -> Normal
B18: 5293561 | D18: =IF(B18>1000000,"Severe","Normal") | G18: =IF(B18>1000000,"Severe","Normal") -> Severe
B19: 974018 | D19: =IF(B19>1000000,"Severe","Normal") | G19: =IF(B19>1000000,"Severe","Normal") -> Normal
B21: Practice: Is hurricane damage loss of the following considered severe or normal?: | F21: 1224841 | H21: =IF(F21>1000000,"Severe","Normal") -> Severe
B23: Practice: Is hurricane damage loss of the following considered severe or normal?: | F23: 701284 | H23: =IF(F23>1000000,"Severe","Normal") -> Normal
B25: Tip for Operators:
B26: Meaning | C26: Operator
B27: Greater than | C27: >
B28: Less than | C28: <
B29: Greater than or equal to | C29: >=
B30: Less than or equal to | C30: <=
B31: Equal to | C31: =
B32: Not equal to | C32: <>

Sheet COUNTIF(S) & SUMIF(S)
C2: COUNTIF | H2: SUMIF
B4: Function: | C4: Counts the number of cells that meet a single criterion | H4: Returns the sum of the cells that meet a single criterion
B5: Commonly used: | C5: Count numbers in a range that match the criterion | H5: Sum numbers in a range that match the criterion
B6: Syntax: | C6: =COUNTIF(range, criterion) | H6: =SUMIF(range, criterion, [sum_range])
B7: Input: | C7: range = the range of cells that you want to apply the criterion against criterion = the criterion used to determine which cells to count/add [sum_range] = (for SUMIF only) the cells to add together (default = range)
B8: Output: | C8: Count of cells of supplied value that meet the criteria | H8: Sum of cells of supplied value that meet the criteria
B10: EXERCISES
B12: Imagine a list of property claims filed after a hurricane. The table below contains the key information about each property's damage:
B13: a. | C13: Count the number of claims that incurred less than $500,000 in losses.
B14: b. | C14: Sum the incurred loss amounts of claims that had less than $500,000 in losses.
B15: c. | C15: Sum the incurred loss amounts of claims that are still open.
B18: Damage Cause | C18: Claim Status | D18: Incurred Loss Amount | E18: Example | F18: Formula | I18: Output
B19: Wind | C19: Closed | D19: 850000 | F19: =COUNTIF(D19:D23,"<500000") | I19: =COUNTIF(D19:D23,"<500000") -> 3
B20: Flood | C20: Open | D20: 675000 | F20: =SUMIF(D19:D23,"<500000") | I20: =SUMIF(D19:D23,"<500000") -> 775000
B21: Wind | C21: Closed | D21: 225000 | F21: =SUMIF(C19:C23,"Open",D19:D23) | I21: =SUMIF(C19:C23,"Open",D19:D23) -> 1225000
B22: Wind | C22: Open | D22: 400000
B23: Flood | C23: Open | D23: 150000
B25: Practice: Determine the number of claims that are closed. | H25: =COUNTIF(C19:C23,"Closed") -> 2
B27: Practice: Determine the sum of incurred loss amounts of claims that are closed. | H27: =SUMIF(C19:C23,"Closed",D19:D23) -> 1075000
C30: COUNTIFS | H30: SUMIFS
B32: Function: | C32: Counts the number of cells that meet multiple criteria | H32: Returns the sum of the cells that meet multiple criteria
B33: Commonly used: | C33: Count numbers in a range that match the criteria | H33: Sum numbers in a range that match the criteria
B34: Syntax: | C34: =COUNTIFS(range, criterion, [range2], [criterion2],…) | H34: =SUMIFS(sum_range, range, criterion, [range2], [criterion2],…)
B35: Input: | C35: sum_range = (for SUMIFS only) the cell to add together (default = range) range = the range of cells that you want to apply the first criterion (criterion) against criterion = the first criterion used to determine which cells to count/add [range2] = the range of cells that you want to apply the second criterion (criterion2) against [criterion2] = the second criterion used to determine which cells to count/add
B36: Output: | C36: Count of cells of supplied value that meet the criteria | H36: Sum of cells of supplied value that meet the criteria
B38: Imagine a list of property claims filed after a hurricane. The table below contains the key information about each property's damage:
B39: a. | C39: Count the number of open claims that have an incurred loss amount of greater than $500,000.
B40: b. | C40: Find the sum of the number of open claims that have an inccurred loss amount of greater than $500,000.
B41: c. | C41: Calculate the total incurred loss amount of closed claims that were caused by wind.
B43: Damage Cause | C43: Claim Status | D43: Incurred Loss Amount | E43: Example | F43: Formula | I43: Output
B44: Wind | C44: Open | D44: 325000 | F44: =COUNTIFS(C44:C48,"Open",D44:D48,">500000") | I44: =COUNTIFS(C44:C48,"Open",D44:D48,">500000") -> 1
B45: Flood | C45: Closed | D45: 875000 | F45: =SUMIFS(D44:D48,C44:C48,"Open",D44:D48,">500000") | I45: =SUMIFS(D44:D48,C44:C48,"Open",D44:D48,">500000") -> 600000
B46: Flood | C46: Open | D46: 250000 | F46: =SUMIFS(D44:D48,C44:C48,"Closed",B44:B48,"Wind") | I46: =SUMIFS(D44:D48,C44:C48,"Closed",B44:B48,"Wind") -> 150000
B47: Wind | C47: Open | D47: 600000
B48: Wind | C48: Closed | D48: 150000
B50: Practice: Determine the number of open claims caused by wind with an incurred loss amount of less than $500,000.
B52: Practice: What is the sum of incurred loss amounts of closed claims caused by floods with an incurred loss amount of greater than $400,000.

Sheet INDEX & MATCH
D2: INDEX | I2: MATCH
C4: Function: | D4: Returns a value or reference of the cell at the intersection of a particular row and column, in a given range | I4: Returns the relative position of an item in an array that matches a specified value in a specified order
C5: Commonly used: | D5: To extract a value in an array or a table of cells based on the row (and column) number(s) | I5: To find the row or column number of a particular value in a given array
C6: Syntax: | D6: =INDEX(array, row_num, [column_num]) | I6: =MATCH(lookup_value, lookup_array, [match_type])
C7: Input: | D7: array = the range of cells to pull value from row_num = the row position in the given array [column_num] = the column position in the given array | I7: lookup_value = the value to find in the lookup array lookup_array = the range of cells to look for the lookup value [match_type] = argument requiring cell value to be less than (1) (default), exact match (0), or greater than (-1) the lookup value
C8: Output: | D8: Value from array based on row (and column) position(s) | I8: Relative position of the lookup value in the lookup array
C10: EXERCISES
C12: An insurer is tracking the number of hurricane property claims filed across different states, comparing policies based on the age of the roof.
C13: This helps the actuary see which combination of location and roof age has the highest claims frequency.
D15: (Column)
D16: 1 | E16: 2 | F16: 3
D17: # of Hurricane Property Claims
C18: Roof Age (Years) | D18: Florida | E18: Louisiana | F18: North Carolina
A19: (Row) | B19: 1 | C19: 0-5 | D19: 3900 | E19: 2200 | F19: 900
B20: 2 | C20: 6-10 | D20: 5200 | E20: 4600 | F20: 1200
B21: 3 | C21: 11-15 | D21: 8400 | E21: 4900 | F21: 1800
B22: 4 | C22: 16+ | D22: 9500 | E22: 5300 | F22: 2300
C24: INDEX: | D24: How many homes with a roof age of 11-15 years in Louisiana filed claims? | H24: MATCH: | I24: What is the row number for claims with a roof age of 6-10 years?
C25: Formula | D25: =INDEX(D19:F22,3,2) | H25: Formula | I25: =MATCH("6-10", C19:C22, 0)
C26: Output | H26: Output
C28: PRACTICE: | D28: How many homes with a roof age of 6-10 years in North Carolina filed claims? | H28: PRACTICE: | I28: What is the column number for claims filed in Louisiana?
C29: Answer | E29: =INDEX(D19:F22, 4, 3) -> 2300 | H29: Answer | J29: =MATCH("Florida", D18:F18, 0) -> 1
C31: INDEX + MATCH: | D31: How many homes with a roof age of 6-10 years in Florida filed claims?
C32: Formula | D32: =INDEX(D19:F22, MATCH("6-10", C19:C22, 0), MATCH("Florida", D18:F18, 0))
C33: Output
C35: PRACTICE: | D35: How many homes with a roof age of 0-5 years in Louisiana filed claims?
C36: Answer | E36: =INDEX(D19:F22,MATCH("0-5",C19:C22,0),MATCH("Louisiana",D18:F18,0)) -> 2200
C38: Extra Practice: How many homes with roof age of 16+ years in North Carolina filed claims? (Use Index + Match)

Sheet XLOOKUP
B2: XLOOKUP
B4: Function: | C4: Look up a given value and extract corresponding information
B5: Commonly used: | C5: As an alternative to Index-Match Succeeds the VLOOKUP function
B6: Syntax: | C6: =XLOOKUP(lookup_value, lookup_array, return_array, [not_found], [match_mode], [search_mode])
B7: Input: | C7: lookup_value = the value we have and can 'feed' to Excel lookup_array = the array or range that Excel should search to find our lookup_value (usually a column) return_array = the array or range that Excel should obtain for the corresponding value (usually a column) [not_found] = value to return if no match is found [match_mode] : 0 = exact match (default) ; -1 = exact or next smallest ; 1 = exact or next largest ; 2 = wildcard match [search_mode] : 1 = search from first(default) ; -1 = search from last ; 2 = binary search ascending ; -2 = binary search descending
B8: Output: | C8: The corresponding information from the lookup value
B9: Notes: | C9: [ ] - Optional
B11: Feature | C11: XLOOKUP | E11: VLOOKUP
B12: Lookup Direction | C12: Can search both left-to-right and right-to-left | E12: Only searches left-to-right
B13: Column Index | C13: Automatically detects the return array | E13: Requires a column index number
B14: Exact Match | C14: Default is exact match | E14: Default is approximate match
B15: Range Compatibility | C15: Works with any array (vertical or horizontal) | E15: Limited to vertical lookups
B16: Availability | C16: Excel 365 and Excel 2021 | E16: Available in all versions of Excel
B18: EXERCISES
B19: Imagine you are an actuary at an auto insurance company. The table below outlines the cumulative paid losses (in thousands) from various states for several accident years developed through 12-72 months
D21: Months of Development
B22: Accident Year | C22: State | D22: 12 | E22: 24 | F22: 36 | G22: 48 | H22: 60 | I22: 72
B23: 2010 | C23: FL | D23: 1800 | E23: 2400 | F23: 2750 | G23: 2900 | H23: 2980 | I23: 3000
B24: 2011 | C24: NV | D24: 1500 | E24: 2000 | F24: 2350 | G24: 2500 | H24: 2580 | I24: 2600
B25: 2012 | C25: CA | D25: 900 | E25: 1250 | F25: 1400 | G25: 1480 | H25: 1520 | I25: 1530
B26: 2013 | C26: CO | D26: 750 | E26: 1000 | F26: 1150 | G26: 1220 | H26: 1250 | I26: 1260
B27: 2014 | C27: NY | D27: 1200 | E27: 1650 | F27: 1900 | G27: 2050 | H27: 2120 | I27: 2150
B28: 2015 | C28: ID | D28: 500 | E28: 680 | F28: 780 | G28: 830 | H28: 850 | I28: 860
B29: 2016 | C29: TX | D29: 2100 | E29: 2800 | F29: 3200 | G29: 3450 | H29: 3550 | I29: 3600
B30: 2017 | C30: AZ | D30: 1750 | E30: 2300 | F30: 2600 | G30: 2780 | H30: 2850 | I30: 2880
B31: 2018 | C31: MN | D31: 1100 | E31: 1450 | F31: 1650 | G31: 1750 | H31: 1800 | I31: 1820
B32: 2019 | C32: CT | D32: 850 | E32: 1150 | F32: 1300 | G32: 1380 | H32: 1420 | I32: 1430
B34: Your insurance company wants you to find the cumulative paid loss after 24 months of development.
B35: Begin by using the provided accident year to find the corresponding state.
B36: Then use the found state to find the cumulative paid loss after 24 months of development.
B37: If the accident year is not listed in the table, an error saying "No Data" should appear.
B39: Accident Year | C39: Example | D39: State | E39: Example2 | F39: 24 Months
B40: 2017 | D40: =_xlfn.XLOOKUP(B40,B23:B32,C23:C32,"No Data") -> AZ | F40: =_xlfn.XLOOKUP(D40,C23:C32,E23:E32,"No Data") -> 2300
B42: Testing XLOOKUP function
B43: State | C43: Accident Year | D43: =XLOOKUP(B44, C23:C32, B23:B32, "No Data")
B44: NV | D44: =XLOOKUP(B44,C23:C32,B23:B32)
B46: Now the company wants to ensure that the information provided in the data is accurate.
B47: To do this, use a nested XLOOKUP function to confirm the year's cumulative paid losses after 48 development months.
B48: Accident Year | C48: Months | D48: Cumulative Paid Losses | E48: Nested Function
B49: 2019 | C49: 48 | E49: =XLOOKUP(B53,B23:B32,XLOOKUP(C53,D22:I22,D23:I32))
...

Sheet Dataset
A1: Blue Ridge Casualty Policy Dataset - Auto Insurance
A3: PolicyID | B3: ExpiryDate | C3: VehicleMake | D3: VehicleYear | E3: DriverAge | F3: Region | G3: CoverageType | H3: AnnualPremium | I3: ClaimFiled_Last5Yrs | J3: AntiTheftDevice | K3: Accident_Last3Yrs
A4: A10001 | B4: 46280 | C4: Toyota | D4: 2023 | E4: 35 | F4: West | G4: Comprehensive | H4: 1320 | I4: N | J4: Y | K4: N
A5: A10002 | B5: 46164 | C5: Honda | D5: 2018 | E5: 48 | F5: East | G5: Liability | H5: 790 | I5: N | J5: Y | K5: N
A6: A10003 | B6: 46315 | C6: Ford | D6: 2025 | E6: 22 | F6: Midwest | G6: Comprehensive | H6: 2450 | I6: Y | J6: N | K6: Y
A7: A10004 | B7: 46204 | C7: Chevrolet | D7: 2021 | E7: 55 | F7: South | G7: Collision | H7: 980 | I7: N | J7: Y | K7: N
A8: A10005 | B8: 46124 | C8: BMW | D8: 2024 | E8: 41 | F8: West | G8: Comprehensive | H8: 1950 | I8: N | J8: Y | K8: N
A9: A10006 | B9: 46052 | C9: Nissan | D9: 2017 | E9: 62 | F9: East | G9: Liability | H9: 670 | I9: N | J9: Y | K9: N
A10: A10007 | B10: 46109 | C10: Jeep | D10: 2026 | E10: 28 | F10: South | G10: Comprehensive | H10: 1900 | I10: Y | J10: N | K10: N
A11: A10008 | B11: 46239 | C11: Mercedes | D11: 2024 | E11: 51 | F11: Midwest | G11: Comprehensive | H11: 1550 | I11: N | J11: Y | K11: N
A12: A10009 | B12: 46191 | C12: Subaru | D12: 2016 | E12: 39 | F12: West | G12: Liability | H12: 840 | I12: N | J12: Y | K12: Y
A13: A10010 | B13: 46078 | C13: Kia | D13: 2026 | E13: 25 | F13: East | G13: Comprehensive | H13: 2200 | I13: Y | J13: Y | K13: N
A14: A10011 | B14: 45966 | C14: Toyota | D14: 2015 | E14: 68 | F14: Midwest | G14: Liability | H14: 580 | I14: N | J14: Y | K14: N
A15: A10012 | B15: 46098 | C15: Honda | D15: 2025 | E15: 33 | F15: South | G15: Comprehensive | H15: 1450 | I15: N | J15: Y | K15: N
... A93: A10090 | B93: 46149 | C93: Kia | D93: 2026 | E93: 28 | F93: East | G93: Comprehensive | H93: 2350 | I93: Y | J93: Y | K93: Y
A94: A10091 | B94: 6/31/2026 | C94: Toyota | D94: 2019 | E94: 72 | F94: Midwest | G94: Liability | H94: 590 | I94: N | J94: Y | K94: N
A95: A10092 | B95: 46251 | C95: Honda | D95: 2026 | E95: 36 | F95: South | G95: Comprehensive | H95: 1650 | I95: N | J95: Y | K95: N
A96: A10093 | B96: 46304 | C96: Ford | D96: 2023 | E96: 49 | F96: West | G96: Collision | H96: 1200 | I96: Y | J96: Y | K96: N
A97: A10094 | B97: 46080 | C97: Chevrolet | D97: 2026 | E97: 22 | F97: East | G97: Comprehensive | H97: 2750 | I97: N | J97: N | K97: Y
A98: A10095 | B98: 46096 | C98: BMW | D98: 2019 | E98: 63 | F98: Midwest | G98: Liability | H98: 940 | I98: N | J98: Y | K98: N
A99: A10096 | B99: 46143 | C99: Nissan | D99: 2026 | E99: 35 | F99: South | G99: Comprehensive | H99: 2000 | I99: N | J99: Y | K99: N
A100: A10097 | B100: 46164 | C100: Jeep | D100: 2017 | E100: 77 | F100: West | G100: Liability | H100: 690 | I100: N | J100: Y | K100: N
A101: A10098 | B101: 46220 | C101: Mercedes | D101: 2026 | E101: 40 | F101: East | G101: Comprehensive | H101: 1900 | I101: Y | J101: Y | K101: N
A102: A10099 | B102: 46273 | C102: Subaru | D102: 2022 | E102: 57 | F102: Midwest | G102: Collision | H102: 1350 | I102: N | J102: Y | K102: N
A103: A10100 | B103: 46326 | C103: Kia | D103: 2026 | E103: 30 | F103: South | G103: Comprehensive | H103: 2450 | I103: Y | J103: N | K103: N
A104: A10101 | B104: 46277 | C104: Toyota | D104: 2024 | E104: 37 | F104: West | G104: Comprehensive | H104: 1580 | I104: N | J104: Y | K104: N
A105: A10102 | B105: 46054 | C105: Honda | D105: 2020 | E105: 50 | F105: East | G105: Liability | H105: 830 | I105: Y | J105: Y | K105: N
A106: A10103 | B106: 45981 | C106: Ford | D106: 2025 | E106: 23 | F106: Midwest | G106: Comprehensive | H106: 2550 | I106: N | J106: N | K106: Y
... A503: A10500 | B503: 46146 | C503: Kia | D503: 2026 | E503: 47 | F503: South | G503: Comprehensive | H503: 3600 | I503: Y | J503: N | K503: N

Sheet Practice Problems
B2: PRACTICE PROBLEMS!!
B3: Use the previous sheet labeled "Dataset" in your formulas to solve the following problems.
B5: Q1: XLOOKUP
B6: Blue Ridge Casualty's supervisor recently found that there was an issue with the policy ID A10093.
B7: As Blue Ridge Casualty's Actuarial Team, you need to find out the annual premium of the policyholder to ensure that they are being charged the correct premium amount.
B9: Given Policy ID: | D9: A10093
B10: Column to Find: | D10: Annual Premium
B12: Formula: | D12: =_xlfn.XLOOKUP(C9,Dataset!A:A,Dataset!H:H) -> 0
B14: Q2: More XLOOKUP
B15: Blue Ridge Casualty wants the actuarial team to create a tool within an Excel Workbook that can allow non-actuary-staff to easily obtain the (1) expiry date, (2) annual premium and (3) coverage type from the policy ID.
B16: In the case, where there is an error, the message "Contact Team" should appear. Create this tool. | H16: (Use ID A10265 & A11383 to check)
B18: Enter Policy ID:
B19: Expiry Date: | F19: =_xlfn.XLOOKUP(D18,Dataset!A:A,Dataset!B:B,"Contact Team") -> 0
B20: Annual Premium: | F20: =_xlfn.XLOOKUP(D18,Dataset!A:A,Dataset!H:H, "Contact Team") -> 0
B21: Coverage Type: | F21: =_xlfn.XLOOKUP(D18,Dataset!A:A,Dataset!G:G,"Contact Team") -> 0
B24: Q3: SUMIFS
B25: Blue Ridge Casualty is interested in knowing the total amount of annual premium collected in the Midwest from those under the age of 50 who have filed a claim in the last five years.
B27: Criteria Range | C27: Criteria | E27: Sum Range: | G27: Annual Premium
B28: Region | D28: Midwest
B29: Age Range | D29: <50
B30: Claim Filed in Last 5 Yrs | D30: Y | E30: Answer: | G30: =SUMIFS(Dataset!H:H,Dataset!F:F,"Midwest",Dataset!E:E,"<50",Dataset!I:I,"Y") -> 43700
B33: Q4: COUNTIF(S)
B34: Blue Ridge Casualty wants to know the number of policyholders with a comprehensive coverage type in the South, as a proportion of policyholders in the South.
B35: Total number of policyholders in the: | E35: South | G35: =COUNTIF(Dataset!F:F,E35) -> 125
B36: ="Total number of "&E35&" Policyholders with coverage type:" -> Total number of South Policyholders with coverage type: | E36: Comprehensive | G36: =COUNTIFS(Dataset!G:G,E36,Dataset!F:F,E35) -> 100
B37: Proportion: | G37: =F36/F35 -> #DIV/0!
B39: Q5: INDEX & MATCH
B40: Blue Ridge Casualty wants to know the driver's age for policy ID A10424 (using INDEX and MATCH). (Hint: Use the exact column name from the table in your "column to find" answer box.)
B41: Given Policy ID: | D41: A10424
B42: Column to Find: | D42: DriverAge
B44: Formula: | D44: =INDEX(PolicyData[],MATCH(C41,PolicyData[PolicyID],0),MATCH('Practice Problems'!C42,PolicyData[#Headers],0)) -> #N/A
